BEGIN:VCALENDAR
VERSION:2.0
PRODID:-//Macquarie Anglican - ECPv6.15.17//NONSGML v1.0//EN
CALSCALE:GREGORIAN
METHOD:PUBLISH
X-WR-CALNAME:Macquarie Anglican
X-ORIGINAL-URL:https://www.macquarieanglican.org
X-WR-CALDESC:Events for Macquarie Anglican
REFRESH-INTERVAL;VALUE=DURATION:PT1H
X-Robots-Tag:noindex
X-PUBLISHED-TTL:PT1H
BEGIN:VTIMEZONE
TZID:Australia/Sydney
BEGIN:STANDARD
TZOFFSETFROM:+1100
TZOFFSETTO:+1000
TZNAME:AEST
DTSTART:20240406T160000
END:STANDARD
BEGIN:DAYLIGHT
TZOFFSETFROM:+1000
TZOFFSETTO:+1100
TZNAME:AEDT
DTSTART:20241005T160000
END:DAYLIGHT
BEGIN:STANDARD
TZOFFSETFROM:+1100
TZOFFSETTO:+1000
TZNAME:AEST
DTSTART:20250405T160000
END:STANDARD
BEGIN:DAYLIGHT
TZOFFSETFROM:+1000
TZOFFSETTO:+1100
TZNAME:AEDT
DTSTART:20251004T160000
END:DAYLIGHT
BEGIN:STANDARD
TZOFFSETFROM:+1100
TZOFFSETTO:+1000
TZNAME:AEST
DTSTART:20260404T160000
END:STANDARD
BEGIN:DAYLIGHT
TZOFFSETFROM:+1000
TZOFFSETTO:+1100
TZNAME:AEDT
DTSTART:20261003T160000
END:DAYLIGHT
BEGIN:STANDARD
TZOFFSETFROM:+1100
TZOFFSETTO:+1000
TZNAME:AEST
DTSTART:20270403T160000
END:STANDARD
BEGIN:DAYLIGHT
TZOFFSETFROM:+1000
TZOFFSETTO:+1100
TZNAME:AEDT
DTSTART:20271002T160000
END:DAYLIGHT
END:VTIMEZONE
BEGIN:VEVENT
DTSTART;TZID=Australia/Sydney:20260301T140000
DTEND;TZID=Australia/Sydney:20260301T160000
DTSTAMP:20260422T112538
CREATED:20240228T103915Z
LAST-MODIFIED:20260129T021727Z
UID:9839-1772373600-1772380800@www.macquarieanglican.org
SUMMARY:Cleanup Australia Day
DESCRIPTION:Join us to clean up beautiful ELS Hall Park\, Kent Rd\, North Ryde.\nWe will focus on an accessible section of Shrimptons Creek in the park. \nMeet us behind the cricket nets. From the cricket nets follow the path towards Shrimptons Creek and look for our blue Macquarie Anglican tent and sign-in table. \n\nAll volunteers must sign-in and wear closed shoes.\nChildren and teens must be supervised by adults.\nGumboots and rubbish-reachers are advised.\nSome gloves will be available\, BYO if you can.\n\nThe creek clean-up is not suitable for young children\, but if they are keen to take part you could take them around the fields and playground to spot rubbish for you to safely collect. \nRegister Here
URL:https://www.macquarieanglican.org/event/cleanup-australia-day/
LOCATION:ELS HALL Park\, Kent Rd\, North Ryde\, NSW\, 2122\, Australia
CATEGORIES:GetTogether,In the Community
ATTACH;FMTTYPE=image/jpeg:https://www.macquarieanglican.org/site2015/wp-content/uploads/2024/02/Clean-up.jpeg
ORGANIZER;CN="Macquarie Anglican":MAILTO:info@macquarieanglican.org
END:VEVENT
BEGIN:VEVENT
DTSTART;TZID=Australia/Sydney:20251108T150000
DTEND;TZID=Australia/Sydney:20251108T160000
DTSTAMP:20260422T112539
CREATED:20251008T042225Z
LAST-MODIFIED:20251008T042502Z
UID:10542-1762614000-1762617600@www.macquarieanglican.org
SUMMARY:Service of Lament & Hope
DESCRIPTION:Join us for a service of lament and hope as we remember loved ones we have lost. \nSadness is a healthy God-given response to loss\, and partaking in meaningful rituals amongst supportive communities is good for our bodies. \nThis one-hour church service will make space for our feelings of loss\, sorrow\, pain\, and grief\, and remember God’s deep love for us and promise of comfort\, healing\, and hope. Please feel welcome to bring along family and friends. \nYou will be invited to sing\, listen to Bible readings\, spend time in reflection\, and take part in some call and response prayers. But you are welcome to participate in silence. You will be invited to share the Lord’s Supper ritual. Please join in as it feels best for you. \nThis service is divided into three parts: orientation\, disorientation\, and reorientation. Orientation serves to ground us in the love of God. Disorientation serves to sit with the reality of grief and pain. Reorientation will again help us fix our eyes on the work of Christ and promise of redemption and new creation\, concluding with the Lord’s Supper. \nYou are not alone but loved and held in community and by a good God.
URL:https://www.macquarieanglican.org/event/light-in-the-darkness/
LOCATION:St George’s Ministry Centre\, 100 Balaclava Road\, Eastwood\, NSW\, 2122\, Australia
CATEGORIES:In the Community,Special Events
ATTACH;FMTTYPE=image/png:https://www.macquarieanglican.org/site2015/wp-content/uploads/2025/10/grief-service-final-design.png
ORGANIZER;CN="Laura":MAILTO:laura@macang.org
END:VEVENT
BEGIN:VEVENT
DTSTART;TZID=Australia/Sydney:20250629T180000
DTEND;TZID=Australia/Sydney:20250629T200000
DTSTAMP:20260422T112539
CREATED:20250522T125757Z
LAST-MODIFIED:20250602T105220Z
UID:10426-1751220000-1751227200@www.macquarieanglican.org
SUMMARY:Taste & See (Week 4)
DESCRIPTION:“Taste and see that the LORD is good; blessed is the one who takes refuge in him.”\n– Psalm 34:8 \nIt’s not too late! We’ll recap our series before we cover our last dinner together. \nExplore the timeless message of Jesus over good food\, good company and good conversation. \nWhether you are exploring Christianity for the first time or still investigating; whether you are new to the faith or just new to our church\, we’d love you to join us! We’ll dive into what Christians believe about God and the world\, and you’ll get to ask your questions.\nRSVP \nMore info: https://tasteandsee.org.au/
URL:https://www.macquarieanglican.org/event/taste-see-25-4/
LOCATION:St George’s Ministry Centre\, 100 Balaclava Road\, Eastwood\, NSW\, 2122\, Australia
CATEGORIES:In the Community,Special Events
ATTACH;FMTTYPE=image/webp:https://www.macquarieanglican.org/site2015/wp-content/uploads/2025/05/TasteandSee_web_flyer_woRSVP-1.webp
ORGANIZER;CN="Macquarie Anglican":MAILTO:info@macquarieanglican.org
END:VEVENT
BEGIN:VEVENT
DTSTART;TZID=Australia/Sydney:20250622T180000
DTEND;TZID=Australia/Sydney:20250622T200000
DTSTAMP:20260422T112539
CREATED:20250522T125524Z
LAST-MODIFIED:20250602T105222Z
UID:10424-1750615200-1750622400@www.macquarieanglican.org
SUMMARY:Taste & See (Week 3)
DESCRIPTION:“Taste and see that the LORD is good; blessed is the one who takes refuge in him.”\n– Psalm 34:8 \nIt’s not too late to join us! We’ll recap the previous sessions before tonights session. \nExplore the timeless message of Jesus over good food\, good company and good conversation. \nWhether you are exploring Christianity for the first time or still investigating; whether you are new to the faith or just new to our church\, we’d love you to join us! We’ll dive into what Christians believe about God and the world\, and you’ll get to ask your questions.\nRSVP \nMore info: https://tasteandsee.org.au/
URL:https://www.macquarieanglican.org/event/taste-see-25-3/
LOCATION:St George’s Ministry Centre\, 100 Balaclava Road\, Eastwood\, NSW\, 2122\, Australia
CATEGORIES:In the Community,Special Events
ATTACH;FMTTYPE=image/webp:https://www.macquarieanglican.org/site2015/wp-content/uploads/2025/05/TasteandSee_web_flyer_woRSVP-1.webp
ORGANIZER;CN="Macquarie Anglican":MAILTO:info@macquarieanglican.org
END:VEVENT
BEGIN:VEVENT
DTSTART;TZID=Australia/Sydney:20250615T180000
DTEND;TZID=Australia/Sydney:20250615T200000
DTSTAMP:20260422T112539
CREATED:20250522T125005Z
LAST-MODIFIED:20250602T105153Z
UID:10421-1750010400-1750017600@www.macquarieanglican.org
SUMMARY:Taste and See (Week 2)
DESCRIPTION:“Taste and see that the LORD is good; blessed is the one who takes refuge in him.”\n– Psalm 34:8 \nYou are invited even if you didn’t make last week. We’ll recap the last weeks session before tonights session. \nExplore the timeless message of Jesus over good food\, good company and good conversation. \nWhether you are exploring Christianity for the first time or still investigating; whether you are new to the faith or just new to our church\, we’d love you to join us! We’ll dive into what Christians believe about God and the world\, and you’ll get to ask your questions.\nRSVP\nMore info: https://tasteandsee.org.au/
URL:https://www.macquarieanglican.org/event/taste-and-see-25-2/
LOCATION:St George’s Ministry Centre\, 100 Balaclava Road\, Eastwood\, NSW\, 2122\, Australia
CATEGORIES:In the Community,Special Events
ATTACH;FMTTYPE=image/webp:https://www.macquarieanglican.org/site2015/wp-content/uploads/2025/05/TasteandSee_web_flyer_woRSVP-1.webp
ORGANIZER;CN="Macquarie Anglican":MAILTO:info@macquarieanglican.org
END:VEVENT
BEGIN:VEVENT
DTSTART;TZID=Australia/Sydney:20250608T180000
DTEND;TZID=Australia/Sydney:20250608T200000
DTSTAMP:20260422T112539
CREATED:20250522T124732Z
LAST-MODIFIED:20250602T105107Z
UID:10418-1749405600-1749412800@www.macquarieanglican.org
SUMMARY:Taste and See (Week 1)
DESCRIPTION:“Taste and see that the LORD is good; blessed is the one who takes refuge in him.”\n– Psalm 34:8 \nExplore the timeless message of Jesus over good food\, good company and good conversation. \nWhether you are exploring Christianity for the first time or still investigating; whether you are new to the faith or just new to our church\, we’d love you to join us! We’ll dive into what Christians believe about God and the world\, and you’ll get to ask your questions.\nRSVP \nMore info: https://tasteandsee.org.au/
URL:https://www.macquarieanglican.org/event/taste-and-see-25-1/
LOCATION:St George’s Ministry Centre\, 100 Balaclava Road\, Eastwood\, NSW\, 2122\, Australia
CATEGORIES:In the Community,Special Events
ATTACH;FMTTYPE=image/webp:https://www.macquarieanglican.org/site2015/wp-content/uploads/2025/05/TasteandSee_web_flyer_woRSVP-1.webp
ORGANIZER;CN="Macquarie Anglican":MAILTO:info@macquarieanglican.org
END:VEVENT
END:VCALENDAR